BEGIN:VCALENDAR
VERSION:2.0
PRODID:-//TotalExpo.ru v1.0//EN
BEGIN:VEVENT
DTSTAMP:20261203T120000
DTSTART:20261203T070000Z
DTEND:20261205T140000Z
SUMMARY:Shanghai Metallurgy EXPO 2026 (Шанхай, Китай)
DESCRIPTION:Шанхайская международная выставка металлургической промышленности. Проводится с 1986 года и считается одной из старейших профессиональных металлургических выставок в Китае. Экспозиция охватывает практически все сферы сталелитейной и металлургической промышленности и сопровождается деловой программой. <br/> В 2024 году, главной темой станет "Экологическое развитие сталелитейной промышленности". Будет представлен полный спектр стальной продукции, сырья и вспомогательных материалов, металлургического оборудования и технологий защиты окружающей среды.
LOCATION:Shanghai New International Expo Centre (Китай, Шанхай)
END:VEVENT
END:VCALENDAR