BEGIN:VCALENDAR
VERSION:2.0
PRODID:-//TotalExpo.ru v1.0//EN
BEGIN:VEVENT
DTSTAMP:20261116T120000
DTSTART:20261116T070000Z
DTEND:20261118T140000Z
SUMMARY:interpack China 2026 (Шанхай, Китай)
DESCRIPTION:Выставка упаковки и упаковочных материалов. До 2025 года проходила под названием Shanghai World of Packaging (swop). Экспозиция охватывает всю цепочку поставок для таких отраслей, как производство продуктов питания, напитки, кондитерские изделия, фармацевтика, косметика, и т.д. 
LOCATION:Shanghai New International Expo Centre (Китай, Шанхай)
END:VEVENT
END:VCALENDAR