BEGIN:VCALENDAR
VERSION:2.0
PRODID:-//TotalExpo.ru v1.0//EN
BEGIN:VEVENT
DTSTAMP:20271117T120000
DTSTART:20271117T070000Z
DTEND:20271119T140000Z
SUMMARY:Shanghai International Nonwovens Conference &amp; Exhibition (SINCE) 2027 (Шанхай, Китай)
DESCRIPTION:Крупнейшая в Азии выставка, посвященная нетканым материалам и проводимая с 1986 года. В экспозиции представлено сырье и оборудование для производства нетканых материалов, а также готовая продукция для различных сфер применения, включая гигиену, фильтры, бытовые ткани и одежду, медицину, автомобильную промышленность, мебель, и т.д. Ожидаемое число посетителей превышает 25 000 человек, количество участников - более 450 компаний из разных стран.
LOCATION:Shanghai World Expo Ehibition and Convention Center (Китай, Шанхай)
END:VEVENT
END:VCALENDAR