BEGIN:VCALENDAR
VERSION:2.0
PRODID:-//TotalExpo.ru v1.0//EN
BEGIN:VEVENT
DTSTAMP:20260602T120000
DTSTART:20260602T070000Z
DTEND:20260604T140000Z
SUMMARY:Shanghai International Packaging Products and Materials Exhibition / CIPPME 2026 (Шанхай, Китай)
DESCRIPTION:Выставка упаковки и материалов для ее производства, будь то бумага, пластик, металл, дерево, стекло и т.д. На площади более 45 000 кв.м свою продукцию представляют около 600 компаний из 30 стран мира. Ожидаемое число посетителей превысит 50 000 человек.
LOCATION:Shanghai World Expo Ehibition and Convention Center (Китай, Шанхай)
END:VEVENT
END:VCALENDAR