BEGIN:VCALENDAR
VERSION:2.0
PRODID:-//TotalExpo.ru v1.0//EN
BEGIN:VEVENT
DTSTAMP:20260511T120000
DTSTART:20260511T070000Z
DTEND:20260513T140000Z
SUMMARY:Hong Kong International Medical and Healthcare Fair 2026 (Гонконг, Китай)
DESCRIPTION:Выставка современных медицинских технологий и оборудования. В экспозиции представлено оборудование для диагностики, скорой помощи, стоматологии, косметологии, системы связи и информации, китайская традиционная медицина, лабораторное оборудование, одежда, продукция для реабилитации, косметические средства, и многое другое.
LOCATION:Hong Kong Convention & Exhibition Centre (Китай, Гонконг)
END:VEVENT
END:VCALENDAR