BEGIN:VCALENDAR
VERSION:2.0
PRODID:-//TotalExpo.ru v1.0//EN
BEGIN:VEVENT
DTSTAMP:20260902T120000
DTSTART:20260902T070000Z
DTEND:20260905T140000Z
SUMMARY:CENTRESTAGE 2026 (Гонконг, Китай)
DESCRIPTION:Одно из крупнейших событий в Гонконге в сфере моды. В экспозиции представлены более 200 брендов из двух десятков стран мира. Среди участников как хорошо известные компании, так и те, кто только готовится к выходу на рынок. Выставку сопровождает деловая программа и серия модных показов. 
LOCATION:Hong Kong Convention & Exhibition Centre (Китай, Гонконг)
END:VEVENT
END:VCALENDAR