BEGIN:VCALENDAR
VERSION:2.0
PRODID:-//TotalExpo.ru v1.0//EN
BEGIN:VEVENT
DTSTAMP:20261005T120000
DTSTART:20261005T070000Z
DTEND:20261006T140000Z
SUMMARY:ИнжирPRO 2026 (Алушта, Россия)
DESCRIPTION:Межрегиональный Форум профессионалов индустрии гостеприимства и выставка производителей товаров и услуг для сегмента HoReCa, деловая площадка, на которой представлены ведущие производители и поставщики оборудования для отелей, ресторанов и других предприятий общественного питания.
LOCATION:Riviera Sunrise Resort & SPA (Россия, Алушта)
END:VEVENT
END:VCALENDAR