BEGIN:VCALENDAR
VERSION:2.0
PRODID:-//TotalExpo.ru v1.0//EN
BEGIN:VEVENT
DTSTAMP:20261021T120000
DTSTART:20261021T070000Z
DTEND:20261023T140000Z
SUMMARY:KazAgroFarm 2026 (Астана, Казахстан)
DESCRIPTION:Крупнейшая сельскохозяйственная выставка в Центральной Азии, профессиональная площадка для презентации мировых инноваций аграрной отрасли.
LOCATION:Экспо, МВЦ (Казахстан, Астана)
END:VEVENT
END:VCALENDAR