BEGIN:VCALENDAR
VERSION:2.0
PRODID:-//TotalExpo.ru v1.0//EN
BEGIN:VEVENT
DTSTAMP:20260611T120000
DTSTART:20260611T070000Z
DTEND:20260612T140000Z
SUMMARY:Astana Mining &amp; Metallurgy / AMM 2026 (Астана, Казахстан)
DESCRIPTION:Одно из самых масштабных отраслевых мероприятий в горно-металлургической индустрии Казахстана. АММ открывает множество площадок для диалогов и включает B2B и G2B встречи с крупнейшими компаниями-недропользователями и представителями государственных структур Казахстана, выставку, нетворкинг и отраслевой конкурс Золотой Гефест.
LOCATION:Hilton Astana (Казахстан, Астана)
END:VEVENT
END:VCALENDAR