BEGIN:VCALENDAR
VERSION:2.0
PRODID:-//TotalExpo.ru v1.0//EN
BEGIN:VEVENT
DTSTAMP:20260909T120000
DTSTART:20260909T070000Z
DTEND:20260911T140000Z
SUMMARY:KazInterPower 2026 (Павлодар, Казахстан)
DESCRIPTION:Ежегодно выставка «KazInterPower» собирает на одной площадке предприятия энергетического комплекса, представляет новые технические решения и инновационные технологии в области энергетики и электротехники. Участие в выставке позволяет за короткий срок ознакомиться со всем представленным разнообразием идей и разработок, изучить рынок и познакомиться с крупнейшими энергетическими и промышленными предприятиями Павлодарского региона.
LOCATION:Теннисный центр «ЭНЕРГЕТИК» (Казахстан, Павлодар)
END:VEVENT
END:VCALENDAR