BEGIN:VCALENDAR
VERSION:2.0
PRODID:-//TotalExpo.ru v1.0//EN
BEGIN:VEVENT
DTSTAMP:20260909T120000
DTSTART:20260909T070000Z
DTEND:20260911T140000Z
SUMMARY:MinTech 2026 (Павлодар, Казахстан)
DESCRIPTION:Одно из наиболее значимых и ожидаемых событий горно-металлургической отрасли в крупнейших промышленных регионах Казахстана. Цель проекта - прямые контакты специалистов отрасли из регионов с представителями мировых компаний – производителей оборудования и технологий. Посетители выставки - директора, руководители подразделений, главные инженера практически всех промышленных предприятий регионов; специалисты отрасли - механики, конструкторы, технологи, снабженцы, научно-технические специалисты. 
LOCATION:Теннисный центр «ЭНЕРГЕТИК» (Казахстан, Павлодар)
END:VEVENT
END:VCALENDAR