BEGIN:VCALENDAR
VERSION:2.0
PRODID:-//TotalExpo.ru v1.0//EN
BEGIN:VEVENT
DTSTAMP:20261014T120000
DTSTART:20261014T070000Z
DTEND:20261016T140000Z
SUMMARY:MinTech 2026 (Актобе, Казахстан)
DESCRIPTION:MinTech-Актобе является значимым событием для экономического развития  промышленного сектора Актюбинского региона Казахстана. Проект направлен на взаимодействие 
региональных специалистов отрасли с представителями мировых компаний – производителями оборудования и технологий. 
Постоянные участники - директора, руководители подразделений, главные инженера практически всех промышленных предприятий регионов; специалисты отрасли - механики, конструкторы, технологи, снабженцы, научно-технические специалисты.

LOCATION:Дворец спорта «Коныс» (Казахстан, Актобе)
END:VEVENT
END:VCALENDAR