BEGIN:VCALENDAR
VERSION:2.0
PRODID:-//TotalExpo.ru v1.0//EN
BEGIN:VEVENT
DTSTAMP:20261014T120000
DTSTART:20261014T070000Z
DTEND:20261016T140000Z
SUMMARY:АктобеНефтеХим 2026 (Актобе, Казахстан)
DESCRIPTION:Международная выставка оборудования и технологий химической, нефтяной и газовой промышленности. Развитая минерально-сырьевая база Актюбинской области, которая насчитывает около 340 месторождений полезных ископаемых, наряду с другими благоприятными факторами, выдвигает регион на одну из лидирующих позиций по республике. На этой базе получили развитие нефтяная, химическая и горно-металлургическая промышленность. В регионе действуют более 700 крупных и средних предприятий, а также более тысячи предприятий малого бизнеса, и 715 компаний - с иностранным участием.  
LOCATION:Дворец спорта «Коныс» (Казахстан, Актобе)
END:VEVENT
END:VCALENDAR