BEGIN:VCALENDAR
VERSION:2.0
PRODID:-//TotalExpo.ru v1.0//EN
BEGIN:VEVENT
DTSTAMP:20260510T120000
DTSTART:20260510T070000Z
DTEND:20260512T140000Z
SUMMARY:Asia Amusement &amp; Attractions Expo (AAA) 2026 (Гуанчжоу, Китай)
DESCRIPTION:Выставка индустрии развлечений. В экспозиции представлено оборудование для тематических парков, компьютерные игры, системы виртуальной реальности, игровые автоматы, водные аттракционы, и т.д. Ежегодно число участников превышает 500 компаний из трех десятков стран мира.
LOCATION:China Import and Export Fair Pazhou Complex (Китай, Гуанчжоу)
END:VEVENT
END:VCALENDAR