BEGIN:VCALENDAR
VERSION:2.0
PRODID:-//TotalExpo.ru v1.0//EN
BEGIN:VEVENT
DTSTAMP:20260701T120000
DTSTART:20260701T070000Z
DTEND:20260702T140000Z
SUMMARY:Восточный нефтегазовый форум 2026 (Владивосток, Россия)
DESCRIPTION:Восточный нефтегазовый форум – это профессиональная международная площадка для диалога, обмена опытом, поиска решений и консолидации усилий представителей власти и бизнеса для эффективной реализации целого ряда нефтегазовых проектов в Восточной Сибири и на Дальнем Востоке, включая строительство перерабатывающих мощностей.
LOCATION:VLADIVOSTOK Grand Hotel & SPA (Россия, Владивосток)
END:VEVENT
END:VCALENDAR