BEGIN:VCALENDAR
VERSION:2.0
PRODID:-//TotalExpo.ru v1.0//EN
BEGIN:VEVENT
DTSTAMP:20260603T120000
DTSTART:20260603T070000Z
DTEND:20260605T140000Z
SUMMARY:Защищенный грунт России 2026 (Москва, Россия)
DESCRIPTION:Престижная профессиональная площадка для привлечения инвестиций в тепличную отрасль, обсуждения стратегий развития, демонстрация новейших разработок и технологий в тепличном производстве, обмена опытом между специалистами и заключения взаимовыгодных контрактов.
LOCATION:ВДНХ (Выставка достижений народного хозяйства) (Россия, Москва)
END:VEVENT
END:VCALENDAR