BEGIN:VCALENDAR
VERSION:2.0
PRODID:-//TotalExpo.ru v1.0//EN
BEGIN:VEVENT
DTSTAMP:20261211T120000
DTSTART:20261211T070000Z
DTEND:20261213T140000Z
SUMMARY:Счастье в подарок 2026 (Иркутск, Россия)
DESCRIPTION:Выставка поможет иркутянам и гостям города в выборе подарков, украшений для дома, праздничных услуг, одежды, аксессуаров и многого другого.
LOCATION:Сибэкспоцентр, ВК (Россия, Иркутск)
END:VEVENT
END:VCALENDAR