BEGIN:VCALENDAR
VERSION:2.0
PRODID:-//TotalExpo.ru v1.0//EN
BEGIN:VEVENT
DTSTAMP:20260528T120000
DTSTART:20260528T070000Z
DTEND:20260529T140000Z
SUMMARY:DIY &amp; Household Retail Russia 2026 (Москва, Россия)
DESCRIPTION:Выездная встреча собственников и топ-менеджеров индустрии строительных и отделочных материалов, товаров для дома и мебели. К нам приезжают, чтобы обсудить насущное, узнать новое, сверить взгляды и мнения с коллегами по отрасли. И, конечно, чтобы найти новые решения и знакомства, которые помогают двигать бизнес вперед.
LOCATION:Ареал, конгресс-отель (Россия, Москва)
END:VEVENT
END:VCALENDAR