BEGIN:VCALENDAR
VERSION:2.0
PRODID:-//TotalExpo.ru v1.0//EN
BEGIN:VEVENT
DTSTAMP:20261027T120000
DTSTART:20261027T070000Z
DTEND:20261030T140000Z
SUMMARY:Агропромышленная неделя 2026 (Иркутск, Россия)
DESCRIPTION:АГРОПРОМЫШЛЕННАЯ НЕДЕЛЯ — крупный региональный форум производителей сельскохозяйственной продукции и продовольствия. Выставка призвана содействовать устойчивому развитию сельского хозяйства сельских территорий, техническому перевооружению агропромышленного комплекса, пищевой и перерабатывающей промышленности, обмену передовым опытом, внедрению прогрессивных технологий, оборудования и механизмов, координации интересов сельхозпроизводителей, переработчиков, торговли, укреплению деловых взаимовыгодных связей с регионами России и Зарубежья, повышению конкурентоспособности и обеспечению качества продовольственных товаров, развитию науки и инновационной деятельности в агропромышленном комплексе. 
LOCATION:Сибэкспоцентр, ВК (Россия, Иркутск)
END:VEVENT
END:VCALENDAR