BEGIN:VCALENDAR
VERSION:2.0
PRODID:-//TotalExpo.ru v1.0//EN
BEGIN:VEVENT
DTSTAMP:20261014T120000
DTSTART:20261014T070000Z
DTEND:20261016T140000Z
SUMMARY:Российская энергетическая неделя / РЭН 2026 (Москва, Россия)
DESCRIPTION:Международный форум и выставка по энергоэффективности и развитию энергетики. Целью мероприятия является демонстрация перспектив российского топливно-энергетического комплекса и реализация потенциала международного сотрудничества. Определено 6 основных направлений деловой программы Форума: развитие газовой, нефтяной и угольной отраслей, нефтехимии, электроэнергетики, а также энергосбережение и повышение энергоэффективности. В Форуме примут участие руководители крупнейших мировых и российских энергетических компаний.
LOCATION:Манеж, ЦВЗ (Россия, Москва)
END:VEVENT
END:VCALENDAR