BEGIN:VCALENDAR
VERSION:2.0
PRODID:-//TotalExpo.ru v1.0//EN
BEGIN:VEVENT
DTSTAMP:20261021T120000
DTSTART:20261021T070000Z
DTEND:20261023T140000Z
SUMMARY:OGT Expo / Нефть и газ Туркменистана 2026 (Ашхабад, Туркменистан)
DESCRIPTION:Нефтегазовая выставка и конференция.
LOCATION:Торгово-промышленная палата Туркменистана (Туркменистан, Ашхабад)
END:VEVENT
END:VCALENDAR