BEGIN:VCALENDAR
VERSION:2.0
PRODID:-//TotalExpo.ru v1.0//EN
BEGIN:VEVENT
DTSTAMP:20261124T120000
DTSTART:20261124T070000Z
DTEND:20261126T140000Z
SUMMARY:Turkmentel 2026 (Ашхабад, Туркменистан)
DESCRIPTION:Международная выставка телекоммуникационных, телеметрических, информационных технологий и телерадиовещательного оборудования.
LOCATION:Торгово-промышленная палата Туркменистана (Туркменистан, Ашхабад)
END:VEVENT
END:VCALENDAR