BEGIN:VCALENDAR
VERSION:2.0
PRODID:-//TotalExpo.ru v1.0//EN
BEGIN:VEVENT
DTSTAMP:20261103T120000
DTSTART:20261103T070000Z
DTEND:20261105T140000Z
SUMMARY:Turkmen Energetika 2026 (Ашхабад, Туркменистан)
DESCRIPTION:Международная выставка энергетики и электрической индустрии.
LOCATION:Торгово-промышленная палата Туркменистана (Туркменистан, Ашхабад)
END:VEVENT
END:VCALENDAR