BEGIN:VCALENDAR
VERSION:2.0
PRODID:-//TotalExpo.ru v1.0//EN
BEGIN:VEVENT
DTSTAMP:20261103T120000
DTSTART:20261103T070000Z
DTEND:20261105T140000Z
SUMMARY:Turkmen Construction | ТУРКМЕНСКОЕ СТРОИТЕЛЬСТВО 2026 (Ашхабад, Туркменистан)
DESCRIPTION:Крупнейшая в Туркменистане строительная выставка и форум. Отраслевой форум стал крупной демонстрационной
и переговорной площадкой как для Туркменских, так и для ведущих мировых строительных компаний. <br> К участию в выставке приглашаются компаний, заинтересованные в  развитие взаимовыгодных партнерских отношений с туркменскими производителями и поставщиками; инвесторы, готовые активно участвовать в реализации масштабных градостроительных программ страны, а также развивать строительный сектор Туркменистана.


LOCATION:Торгово-промышленная палата Туркменистана (Туркменистан, Ашхабад)
END:VEVENT
END:VCALENDAR