BEGIN:VCALENDAR
VERSION:2.0
PRODID:-//TotalExpo.ru v1.0//EN
BEGIN:VEVENT
DTSTAMP:20261010T120000
DTSTART:20261010T070000Z
DTEND:20261012T140000Z
SUMMARY:Turkmen Health 2026 (Ашхабад, Туркменистан)
DESCRIPTION:Выставка оборудования, технологий и услуг в сфере здравоохранения.
LOCATION:Торгово-промышленная палата Туркменистана (Туркменистан, Ашхабад)
END:VEVENT
END:VCALENDAR