BEGIN:VCALENDAR
VERSION:2.0
PRODID:-//TotalExpo.ru v1.0//EN
BEGIN:VEVENT
DTSTAMP:20260528T120000
DTSTART:20260528T070000Z
DTEND:20260531T140000Z
SUMMARY:Охота. Рыболовство. Отдых 2026 (Иркутск, Россия)
DESCRIPTION:Выставка в сфере охоты и рыболовства, туризма, охотничьих видов стрелкового спорта, индустрии активного отдыха в целом и сопутствующих отраслей, повышению эффективности использования, охраны и восстановления охотничьих и рыболовных ресурсов.
LOCATION:Сибэкспоцентр, ВК (Россия, Иркутск)
END:VEVENT
END:VCALENDAR