BEGIN:VCALENDAR
VERSION:2.0
PRODID:-//TotalExpo.ru v1.0//EN
BEGIN:VEVENT
DTSTAMP:20260929T120000
DTSTART:20260929T070000Z
DTEND:20260930T140000Z
SUMMARY:Петербургский Международный Лесопромышленный Форум 2026 (Санкт-Петербург, Россия)
DESCRIPTION:Петербургский Лесопромышленный форум (ПМЛФ) – это крупнейшее конгрессное бизнес-мероприятие лесопромышленного комплекса России. На площадке Форума ежегодно собираются ведущие компании всех направлений лесопромышленного комплекса, включая представителей ТОП 100 отраслевых компаний России и зарубежных стран. В программе Форума будут рассмотрены традиционные направления, такие как биоэнергетика, домостроение, вопросы лесного хозяйства, а также будут подняты вопросы международной интеграции.
LOCATION:Airportcity Plaza (Россия, Санкт-Петербург)
END:VEVENT
END:VCALENDAR