BEGIN:VCALENDAR
VERSION:2.0
PRODID:-//TotalExpo.ru v1.0//EN
BEGIN:VEVENT
DTSTAMP:20260915T120000
DTSTART:20260915T070000Z
DTEND:20260917T140000Z
SUMMARY:KINDEREXPO UZBEKISTAN - МИР ДЕТСТВА 2026 (Ташкент, Узбекистан)
DESCRIPTION:Выставка материнства и детства.
LOCATION:НВК «Узэкспоцентр» (Узбекистан, Ташкент)
END:VEVENT
END:VCALENDAR