BEGIN:VCALENDAR
VERSION:2.0
PRODID:-//TotalExpo.ru v1.0//EN
BEGIN:VEVENT
DTSTAMP:20260603T120000
DTSTART:20260603T070000Z
DTEND:20260605T140000Z
SUMMARY:FoodWeek Uzbekistan 2026 (Ташкент, Узбекистан)
DESCRIPTION:Международная выставка продуктов питания и напитков, пищевой промышленности, ресторанного бизнеса и упаковки в Республике Узбекистан
LOCATION:НВК «Узэкспоцентр» (Узбекистан, Ташкент)
END:VEVENT
END:VCALENDAR