BEGIN:VCALENDAR
VERSION:2.0
PRODID:-//TotalExpo.ru v1.0//EN
BEGIN:VEVENT
DTSTAMP:20260915T120000
DTSTART:20260915T070000Z
DTEND:20260917T140000Z
SUMMARY:BeautyExpo Uzbekistan 2026 (Ташкент, Узбекистан)
DESCRIPTION:Выставка индустрии красоты в республике Узбекистан, ежегодный масштабный проект, собирающий на своей площадке представителей beauty-отрасли из разных стран мира. <br> <br>  Предприниматели смогут ознакомиться с новинками международных брендов, представить свою продукцию и разработки, провести экспертные встречи с партнерами, поставщиками и заказчиками. Профессиональные байеры получат доступ к beauty-каталогам для дальнейших заказов продукции. Целевая аудитория выставки: стилисты, парикмахеры, nail-мастера, визажисты, косметологи, бровисты, lash-мэйкерыи просто любители beauty-индустрии. 
LOCATION:НВК «Узэкспоцентр» (Узбекистан, Ташкент)
END:VEVENT
END:VCALENDAR