BEGIN:VCALENDAR
VERSION:2.0
PRODID:-//TotalExpo.ru v1.0//EN
BEGIN:VEVENT
DTSTAMP:20261027T120000
DTSTART:20261027T070000Z
DTEND:20261029T140000Z
SUMMARY:MiningMetals Uzbekistan 2026 (Ташкент, Узбекистан)
DESCRIPTION:На протяжении уже 19 лет выставка собирает сотни компаний-участниц и тысячи посетителей – производителей и поставщиков оборудования, представителей горно-металлургических холдингов, научных кругов, правительственных структур. Участие в данном мероприятии позволяет продемонстрировать новинки производства, оценить конкурентоспособность выпускаемой продукции и потенциал конкурентов, найти инвесторов и партнеров, обменяться опытом с коллегами. <br/> В рамках выставки проводится Международный горный форум Узбекистана – UIMF.
LOCATION:НВК «Узэкспоцентр» (Узбекистан, Ташкент)
END:VEVENT
END:VCALENDAR