BEGIN:VCALENDAR
VERSION:2.0
PRODID:-//TotalExpo.ru v1.0//EN
BEGIN:VEVENT
DTSTAMP:20260908T120000
DTSTART:20260908T070000Z
DTEND:20260910T140000Z
SUMMARY:CAITME 2026 (Ташкент, Узбекистан)
DESCRIPTION:Специализированная международная выставка технологий для текстильной и швейной промышленности в Центральноазиатском регионе и, по данным независимого аудита, самая большая выставка данной тематики в СНГ. Выставка позволяет продемонстрировать в действии новинки текстильного машиностроения и технологий от ведущих мировых производителей для всей производственной цепочки
– от производства пряжи до готовой швейно-трикотажной продукции.
LOCATION:НВК «Узэкспоцентр» (Узбекистан, Ташкент)
END:VEVENT
END:VCALENDAR