BEGIN:VCALENDAR
VERSION:2.0
PRODID:-//TotalExpo.ru v1.0//EN
BEGIN:VEVENT
DTSTAMP:20260512T120000
DTSTART:20260512T070000Z
DTEND:20260514T140000Z
SUMMARY:Нефть и Газ Узбекистана - OGU 2026 (Ташкент, Узбекистан)
DESCRIPTION:В"Нефть и газ Узбекистана - OGU" является крупнейшим ежегодным мероприятием для профессионалов нефтегазовой отрасли. Это место встречи ведущих специалистов топливно-энергетического комплекса - руководителей профильных министерств и ведомств с участниками мероприятия, производителями и потребителями. Здесь представлены последние разработки, заслушиваются трендовые отчеты, проводятся презентации молодых ученых, подписываются меморандумы, соглашения и контракты о дальнейшем сотрудничестве.
LOCATION:Central Asian Expo Uzbekistan (CAEx) (Узбекистан, Ташкент)
END:VEVENT
END:VCALENDAR