BEGIN:VCALENDAR
VERSION:2.0
PRODID:-//TotalExpo.ru v1.0//EN
BEGIN:VEVENT
DTSTAMP:20260512T120000
DTSTART:20260512T070000Z
DTEND:20260514T140000Z
SUMMARY:Power Uzbekistan 2026 (Ташкент, Узбекистан)
DESCRIPTION:Выставка «Энергетика, энергосбережение, альтернативные источники энергии». Ежегодно выставка Power Uzbekistan представляет инновации энергетической индустрии от ведущих мировых производителей и дистрибьюторов. 
LOCATION:Central Asian Expo Uzbekistan (CAEx) (Узбекистан, Ташкент)
END:VEVENT
END:VCALENDAR