BEGIN:VCALENDAR
VERSION:2.0
PRODID:-//TotalExpo.ru v1.0//EN
BEGIN:VEVENT
DTSTAMP:20260428T120000
DTSTART:20260428T070000Z
DTEND:20260430T140000Z
SUMMARY:Beauty Uzbekistan 2026 (Ташкент, Узбекистан)
DESCRIPTION:Индустрия красоты, получила новый виток развития в Узбекистане, этот сектор развивается динамичными темпами, открывая новые возможности для презентации последних тенденций, продуктов и разработок. <br/>
Основные разделы выставки позволят представить всю палитру продукции, востребованной на рынке Узбекистана и Центральной Азии с общим населением 80 млн. <br/> Beauty Uzbekistan – профессиональная бизнес-площадка, главный центр премьер и пространство профессионального диалога между производителями, дистрибьюторами, владельцами бизнеса и специалистами отрасли.

LOCATION:Central Asian Expo Uzbekistan (CAEx) (Узбекистан, Ташкент)
END:VEVENT
END:VCALENDAR