BEGIN:VCALENDAR
VERSION:2.0
PRODID:-//TotalExpo.ru v1.0//EN
BEGIN:VEVENT
DTSTAMP:20261006T120000
DTSTART:20261006T070000Z
DTEND:20261008T140000Z
SUMMARY:Aquatherm Tashkent 2026 (Ташкент, Узбекистан)
DESCRIPTION:Международная выставка «Отопление, Вентиляция, Кондиционирование, Водоснабжение, Сантехника, Бассейны, Технологии по охране окружающей среды и Возобновляемые источники энергии».<br/>Aquatherm&amp;reg; — это всемирно известный бренд, принадлежащий компании Wiener Messe und Congress GmbH, под которым проводится аналогичная выставка во многих странах мира.  В Узбекистане он был впервые использован в рамках международной строительной выставки UzBuild, и выставочная компания Iteca Exhibitions является единственным юридическим лицом, имеющим право использовать данный бренд. Единственная отраслевая специализированная выставка в Узбекистане, представляющая последние разработки, новинки и инновации в области HVAC технологий, сантехники, канализации и водоснабжения.
LOCATION:НВК «Узэкспоцентр» (Узбекистан, Ташкент)
END:VEVENT
END:VCALENDAR