BEGIN:VCALENDAR
VERSION:2.0
PRODID:-//TotalExpo.ru v1.0//EN
BEGIN:VEVENT
DTSTAMP:20260428T120000
DTSTART:20260428T070000Z
DTEND:20260430T140000Z
SUMMARY:WoodTech &amp; MebelExpo Uzbekistan 2026 (Ташкент, Узбекистан)
DESCRIPTION:Крупнейшая отраслевая выставка, на которой представлены производители мебели, поставщики оборудования, комплектующих материалов, специалисты по интерьеру и дизайну. На протяжении последних 20 лет Международная выставка MebelExpo Uzbekistan остается главным выставочным событием индустрии, благодаря которому укрепляется потенциал мебельной индустрии страны. Выставка позволяет отечественным производителям получить доступ к современным технологиям и комплектующим в области деревообработки.
LOCATION:НВК «Узэкспоцентр» (Узбекистан, Ташкент)
END:VEVENT
END:VCALENDAR