BEGIN:VCALENDAR
VERSION:2.0
PRODID:-//TotalExpo.ru v1.0//EN
BEGIN:VEVENT
DTSTAMP:20260530T120000
DTSTART:20260530T070000Z
DTEND:20260531T140000Z
SUMMARY:CodeFest 2026 (Новосибирск, Россия)
DESCRIPTION:CodeFest — конференция разработчиков, посвященная актуальным вопросам разработки, управления проектами и тестирования. Достойные гуру ИТ съезжаются со всей России, чтобы вдохнуть глоток свежих знаний, встретить старых знакомых и завести новые связи.
LOCATION:Новосибирск Экспоцентр (Россия, Новосибирск)
END:VEVENT
END:VCALENDAR