BEGIN:VCALENDAR
VERSION:2.0
PRODID:-//TotalExpo.ru v1.0//EN
BEGIN:VEVENT
DTSTAMP:20260516T120000
DTSTART:20260516T070000Z
DTEND:20260516T140000Z
SUMMARY:Невские клады 2026 (Санкт-Петербург, Россия)
DESCRIPTION:Ярмарка для коллекционеров. Здесь можно обменять, отдать, бесплатно оценить раритеты, узнать как правильно их хранить и как начать, наконец, узнавать факты, собирать предметы и ценить историю своей семьи и страны.
LOCATION:ДК Кирова (Россия, Санкт-Петербург)
END:VEVENT
END:VCALENDAR