BEGIN:VCALENDAR
VERSION:2.0
PRODID:-//TotalExpo.ru v1.0//EN
BEGIN:VEVENT
DTSTAMP:20260916T120000
DTSTART:20260916T070000Z
DTEND:20260920T140000Z
SUMMARY:Модный салон. Осень 2026 (Саратов, Россия)
DESCRIPTION:Выставка имеет заслуженный авторитет у производителей и поставщиков продукции не только Поволжья, но и других регионов России. Это уникальная рекламная и торговая площадка, через которую за пять дней работы выставки проходят тысячи посетителей. Выставка традиционно ориентирована на потребителя, однако, проект неизменно является местом профессионального общения и обмена опытом специалистов отрасли.
LOCATION:Мой новый, ТК (выставочный павильон на парковке) (Россия, Саратов)
END:VEVENT
END:VCALENDAR