BEGIN:VCALENDAR
VERSION:2.0
PRODID:-//TotalExpo.ru v1.0//EN
BEGIN:VEVENT
DTSTAMP:20260528T120000
DTSTART:20260528T070000Z
DTEND:20260530T140000Z
SUMMARY:Positive Hack Days / PHDays 2026 (Москва, Россия)
DESCRIPTION:Международный киберфестиваль для всех, кто хочет погрузиться в мир кибербеза и круто провести время.
LOCATION:площадка уточняется (Россия, Москва)
END:VEVENT
END:VCALENDAR