BEGIN:VCALENDAR
VERSION:2.0
PRODID:-//TotalExpo.ru v1.0//EN
BEGIN:VEVENT
DTSTAMP:20260422T120000
DTSTART:20260422T070000Z
DTEND:20260426T140000Z
SUMMARY:Eurasian Book Fair 2026 (Астана, Казахстан)
DESCRIPTION:На ярмарке будут представлены новинки отечественного и зарубежного книгоиздания по различным темам: современная и классическая литература; литература по истории, философии и социологии; образовательная и детская литература; и многое другое.
LOCATION:Назарбаев центр (Казахстан, Астана)
END:VEVENT
END:VCALENDAR