BEGIN:VCALENDAR
VERSION:2.0
PRODID:-//TotalExpo.ru v1.0//EN
BEGIN:VEVENT
DTSTAMP:20260505T120000
DTSTART:20260505T070000Z
DTEND:20260507T140000Z
SUMMARY:Comtrux Astana 2026 (Астана, Казахстан)
DESCRIPTION:Ведущая выставка коммерческого транспорта и решений для дорожной логистики в Казахстане и Центральной Азии. В 2017 – 2018 гг. проходила под брендом CTECA (Commercial Transport Exhibition Central Asia), до 2025 года - Komtrans Astana.<br/>Это площадка, где встречаются производители, поставщики и дистрибьюторы, а также демонстрируются современные грузовики, автобусы, прицепы, телематические решения, сервисные услуги и инновационные технологии для коммерческого транспорта. Особое внимание будет уделено экологичному транспорту, устойчивым технологиям и развитию локального производства.
LOCATION:Экспо, МВЦ (Казахстан, Астана)
END:VEVENT
END:VCALENDAR