BEGIN:VCALENDAR
VERSION:2.0
PRODID:-//TotalExpo.ru v1.0//EN
BEGIN:VEVENT
DTSTAMP:20250517T120000
DTSTART:20250517T070000Z
DTEND:20250519T140000Z
SUMMARY:ТЕХНОДРЕВ Дальний Восток 2025 (Хабаровск, Россия)
DESCRIPTION:Международная специализированная выставка технологий, машин, оборудования и инструмента для лесозаготовки, деревообрабатывающей и мебельной промышленности. <br/> Международная специализированная выставка "ТЕХНОДРЕВ Дальний Восток" является составной частью общероссийской сети лесопромышленных выставок, которая дает возможность производителям и поставщикам оборудования для ЛПК представить свою продукцию во всех регионах России: Cеверо-Западном (Санкт-Петербург), Южном (Ростов-на-Дону), Уральском и Приволжском (Пермь), Сибирском (Красноярск) и на Дальнем Востоке (Хабаровск). <br/> Основная задача сети – продвижение современных технологий и инноваций для лесозаготовительной, деревообрабатывающей и мебельной промышленности на отечественном рынке лесной индустрии. 
LOCATION:Ерофей Арена (Россия, Хабаровск)
END:VEVENT
END:VCALENDAR