BEGIN:VCALENDAR
VERSION:2.0
PRODID:-//TotalExpo.ru v1.0//EN
BEGIN:VEVENT
DTSTAMP:20261012T120000
DTSTART:20261012T070000Z
DTEND:20261016T140000Z
SUMMARY:China International Industry Fair - CIIF 2026 (Шанхай, Китай)
DESCRIPTION:Китайская международная промышленная ярмарка(CIIF) - одна из крупнейших машиностроительных выставок Китая. Ежегодно в ней принимают участие более 2200 компаний, число посетителей превышает 120 тысяч человек. За время своего существования CIIF превратилась в важную международную промышленную платформу, способствующую развитию экономических и торговых связей между государствами.
LOCATION:National Exhibition and Convention Center (NEСC) (Китай, Шанхай)
END:VEVENT
END:VCALENDAR