BEGIN:VCALENDAR
VERSION:2.0
PRODID:-//TotalExpo.ru v1.0//EN
BEGIN:VEVENT
DTSTAMP:20260428T120000
DTSTART:20260428T070000Z
DTEND:20260430T140000Z
SUMMARY:Город 2026 (Владивосток, Россия)
DESCRIPTION:На Дальнем Востоке и в частности в Приморском крае реализуются масштабные проекты в жилищном строительстве, транспортно-логистическом комплексе, судостроении, освоении недр, энергетике, создании комфортной среды проживания
и развития человеческого капитала. Потребность в материалах, оборудовании, технологиях растет быстрыми темпами. <br/> 
Выставка «Город» направлена на содействие в реализации национальных и региональных проектов, обеспечение импортозамещения, достижение технологического суверенитета и популяризацию Федерального проекта «Выбирай своё».

LOCATION:Фетисов-Арена, КСК (Россия, Владивосток)
END:VEVENT
END:VCALENDAR