BEGIN:VCALENDAR
VERSION:2.0
PRODID:-//TotalExpo.ru v1.0//EN
BEGIN:VEVENT
DTSTAMP:20260922T120000
DTSTART:20260922T070000Z
DTEND:20260924T140000Z
SUMMARY:Plastex Uzbekistan / Индустрия пластмасс 2026 (Ташкент, Узбекистан)
DESCRIPTION:Площадка для презентации новейших технологий и решений производства пластмасс и полимеров, от оборудования и технологий до сырья, полуфабрикатов и компонентов. На протяжении многих лет выставка привлекает внимание специалистов перспективных сегментов строительной, упаковочной, перерабатывающей промышленностей. Специализированный раздел выставки, Chemie Uzbekistan, охватывает все области химического комплекса, тем самым представляя полную картину современных достижений химической сферы.
LOCATION:НВК «Узэкспоцентр» (Узбекистан, Ташкент)
END:VEVENT
END:VCALENDAR