BEGIN:VCALENDAR
VERSION:2.0
PRODID:-//TotalExpo.ru v1.0//EN
BEGIN:VEVENT
DTSTAMP:20260513T120000
DTSTART:20260513T070000Z
DTEND:20260515T140000Z
SUMMARY:TextileExpo Uzbekistan 2026 (Ташкент, Узбекистан)
DESCRIPTION:Единственная выставка в Узбекистане, которая проводится два раза в год. Выставка представляет собой уникальный отраслевой смотр достижений узбекистанской текстильной и швейно-трикотажной индустрии, демонстрирующий передовые разработки и технологии, актуальные тренды в производстве одежды и текстильной продукции. Мероприятие международного уровня в очередной раз познакомит с достижениями и инновациями центральноазиатских и мировых лидеров текстильной индустрии по всей технологической цепочке – от пряжи до готовой одежды и аксессуаров. 
LOCATION:НВК «Узэкспоцентр» (Узбекистан, Ташкент)
END:VEVENT
END:VCALENDAR