BEGIN:VCALENDAR
VERSION:2.0
PRODID:-//TotalExpo.ru v1.0//EN
BEGIN:VEVENT
DTSTAMP:20260922T120000
DTSTART:20260922T070000Z
DTEND:20260926T140000Z
SUMMARY:Сибдача - Осень 2026 (Новокузнецк, Россия)
DESCRIPTION:Выставка товаров и услуг для дачи, фермерских и приусадебных хозяйств.
LOCATION:Кузбасская  ярмарка, ВК (Россия, Новокузнецк)
END:VEVENT
END:VCALENDAR