BEGIN:VCALENDAR
VERSION:2.0
PRODID:-//TotalExpo.ru v1.0//EN
BEGIN:VEVENT
DTSTAMP:20270225T120000
DTSTART:20270225T070000Z
DTEND:20270227T140000Z
SUMMARY:Интерагромаш. Агротехнологии 2027 (Ростов-на-Дону, Россия)
DESCRIPTION:Специализированные выставки «Интерагромаш», «Агротехнологии». Ежегодно выставки отражают всю технологическую цепочку сельскохозяйственного производства для выявления проблемных зон и решения вопросов, волнующих как производителей, так и потребителей, а также предоставляет потребителям возможность сравнить цены и качество демонстрируемой продукции.
LOCATION:ДонЭкспоцентр, КВЦ (Россия, Ростов-на-Дону)
END:VEVENT
END:VCALENDAR